BEGIN:VCALENDAR
VERSION:2.0
PRODID:-//wp-events-plugin.com//7.2.3.1//EN
TZID:Europe/Berlin
X-WR-TIMEZONE:Europe/Berlin
BEGIN:VEVENT
UID:1000@fahrschule-schnoor.de
DTSTART;TZID=Europe/Berlin:20231211T181500
DTEND;TZID=Europe/Berlin:20231211T194500
DTSTAMP:20230105T091540Z
URL:https://fahrschule-schnoor.de/unterricht/lektion-12-67/
SUMMARY:Lektion 12
DESCRIPTION:Lebenslanges Lernen /\nFolgen von Verstößen\ngegen Verkehrsvo
 rschriften\n\n 	Zahlen\, Daten\, Fakten\n 	Ältere Fahrer\n 	Fahrer mittle
 ren Alters\n 	Fahranfänger und junge Fahrer\n 	Junge Fahrer – Maßnahme
 n des Gesetzgebers\n 	Ahndung von Fehlverhalten\n
ATTACH;FMTTYPE=image/jpeg:https://fahrschule-schnoor.de/wp-content/uploads
 /2022/03/Lektion_12.png
CATEGORIES:&gt; Lektion 12,Schuby
LOCATION:Schuby\, Bahnhofstraße 30\, Schuby\, Schleswig-Holstein\, 24850\,
  Schleswig-Flensburg\, Deutschland
GEO:54.515554;9.479453
X-APPLE-STRUCTURED-LOCATION;VALUE=URI;X-ADDRESS=Bahnhofstraße 30\, Schuby\
 , Schleswig-Holstein\, 24850\, Schleswig-Flensburg\, Deutschland;X-APPLE-R
 ADIUS=100;X-TITLE=Schuby:geo:54.515554,9.479453
END:VEVENT
BEGIN:VTIMEZONE
TZID:Europe/Berlin
X-LIC-LOCATION:Europe/Berlin
BEGIN:STANDARD
DTSTART:20231029T020000
TZOFFSETFROM:+0200
TZOFFSETTO:+0100
TZNAME:CET
END:STANDARD
END:VTIMEZONE
END:VCALENDAR