BEGIN:VCALENDAR
VERSION:2.0
PRODID:-//wp-events-plugin.com//7.2.3.1//EN
TZID:Europe/Berlin
X-WR-TIMEZONE:Europe/Berlin
BEGIN:VEVENT
UID:229@fahrschule-schnoor.de
DTSTART;TZID=Europe/Berlin:20221101T183000
DTEND;TZID=Europe/Berlin:20221101T200000
DTSTAMP:20221019T071026Z
URL:https://fahrschule-schnoor.de/unterricht/lektion-8-17/
SUMMARY:Lektion 8
DESCRIPTION:Andere Teilnehmer im Straßen-\nverkehr: Besonderheiten und Ver
 halten\n\n 	Verkehrsteilnehmer – Übersicht\n 	Öffentliche Verkehrsmitt
 el\n 	Pkw\n 	Motorräder\n 	Große und schwere Fahrzeuge\n 	Radfahrer\n 	F
 ußgänger\n 	Kinder\n 	Ältere und behinderte Menschen\n 	Maßnahmen zur 
 Verkehrsberuhigung\n
ATTACH;FMTTYPE=image/jpeg:https://fahrschule-schnoor.de/wp-content/uploads
 /2022/03/Lektion_8.png
CATEGORIES:&gt; Lektion 8
LOCATION:Eggebek\, Am Klinkenberg 5\, Eggebek\, Schleswig-Holstein\, 24852\
 , Schleswig-Flensburg\, Deutschland
GEO:54.618938;9.379971
X-APPLE-STRUCTURED-LOCATION;VALUE=URI;X-ADDRESS=Am Klinkenberg 5\, Eggebek\
 , Schleswig-Holstein\, 24852\, Schleswig-Flensburg\, Deutschland;X-APPLE-R
 ADIUS=100;X-TITLE=Eggebek:geo:54.618938,9.379971
END:VEVENT
BEGIN:VTIMEZONE
TZID:Europe/Berlin
X-LIC-LOCATION:Europe/Berlin
BEGIN:STANDARD
DTSTART:20221030T020000
TZOFFSETFROM:+0200
TZOFFSETTO:+0100
TZNAME:CET
END:STANDARD
END:VTIMEZONE
END:VCALENDAR